
BEGIN:VCALENDAR
VERSION:2.0
PRODID:-//wp-events-plugin.com//7.2.3.1//EN
TZID:America/Chicago
X-WR-TIMEZONE:America/Chicago
BEGIN:VEVENT
UID:213@peoriasymphony.org
DTSTART;TZID=America/Chicago:20260327T193000
DTEND;TZID=America/Chicago:20260327T193000
DTSTAMP:20260224T191719Z
URL:https://peoriasymphony.org/events/a-little-night-music/
SUMMARY:A Little Night Music
DESCRIPTION:\n\nWolfgang Amadeus Mozart: Eine Kleine Nachtmusik\, K.525\nJ
 oseph Haydn: Symphony #94 in G Major\, "Surprise"\nLudwig van Beethoven:
  Symphony #7 in A Major\n\n\n\nMarch 27\, 2026\, at 7:30 pm\nGrace Presby
 terian Church
ATTACH;FMTTYPE=image/jpeg:https://peoriasymphony.org/wp-content/uploads/20
 25/04/6.png
LOCATION:Grace Presbyterian Church\, 8607 IL-91\, Peoria\, Illinois\, 61615
 \, United States
X-APPLE-STRUCTURED-LOCATION;VALUE=URI;X-ADDRESS=8607 IL-91\, Peoria\, Illin
 ois\, 61615\, United States;X-APPLE-RADIUS=100;X-TITLE=Grace Presbyterian 
 Church:geo:0,0
END:VEVENT
BEGIN:VTIMEZONE
TZID:America/Chicago
X-LIC-LOCATION:America/Chicago
BEGIN:DAYLIGHT
DTSTART:20260308T030000
TZOFFSETFROM:-0600
TZOFFSETTO:-0500
TZNAME:CDT
END:DAYLIGHT
END:VTIMEZONE
END:VCALENDAR