
BEGIN:VCALENDAR
VERSION:2.0
PRODID:-//wp-events-plugin.com//7.2.3.1//EN
TZID:America/Chicago
X-WR-TIMEZONE:America/Chicago
BEGIN:VEVENT
UID:196@peoriasymphony.org
DTSTART;TZID=America/Chicago:20241115T193000
DTEND;TZID=America/Chicago:20241115T193000
DTSTAMP:20241113T043350Z
URL:https://peoriasymphony.org/events/seasons-at-the-cathedral/
SUMMARY:Seasons at the Cathedral
DESCRIPTION:\n\nMaddalena Casulana: Ben Venga Il Pastor (arr. Stelluto)\nG
 eorge Stelluto: Fugal Musings on Ben Venga Il Pastor\nJohann Sebastian Bac
 h: Orchestral Suite No. 2 in B Minor\nTomaso Albinoni: Sonata St. Mark's\
 , Op. 6\, No. 11\nAntonio Vivaldi: The Four Seasons\n\n\n\nExperience Viv
 alidi’s Four Seasons in the historic Cathedral of St. Mary!\n\nThe Seaso
 ns at the Cathedral Concert will take place on Friday\, November 15\, 2024
 \, at 7:30 pm AND Saturday\, November 16\, 2024\, at 3:00 pm at the Cathed
 ral of St. Mary.\n\nLooking for tickets to the Saturday\, November 16 Seas
 ons at the Cathedral Concert?\nView 11/16 Event\nBuy Tickets\n
ATTACH;FMTTYPE=image/jpeg:https://peoriasymphony.org/wp-content/uploads/20
 24/05/Website-2.png
LOCATION:Cathedral of St. Mary\, 607 NE Madison Ave\, Peoria\, Illinois\, 6
 1603\, United States
X-APPLE-STRUCTURED-LOCATION;VALUE=URI;X-ADDRESS=607 NE Madison Ave\, Peoria
 \, Illinois\, 61603\, United States;X-APPLE-RADIUS=100;X-TITLE=Cathedral o
 f St. Mary:geo:0,0
END:VEVENT
BEGIN:VTIMEZONE
TZID:America/Chicago
X-LIC-LOCATION:America/Chicago
BEGIN:STANDARD
DTSTART:20241103T010000
TZOFFSETFROM:-0500
TZOFFSETTO:-0600
TZNAME:CST
END:STANDARD
END:VTIMEZONE
END:VCALENDAR